BEGIN:VCALENDAR
VERSION:2.0
PRODID:-//Young Actors Theater Strasbourg - ECPv6.15.20//NONSGML v1.0//EN
CALSCALE:GREGORIAN
METHOD:PUBLISH
X-ORIGINAL-URL:https://yatstrasbourg.com
X-WR-CALDESC:Events for Young Actors Theater Strasbourg
REFRESH-INTERVAL;VALUE=DURATION:PT1H
X-Robots-Tag:noindex
X-PUBLISHED-TTL:PT1H
BEGIN:VTIMEZONE
TZID:Europe/Paris
BEGIN:DAYLIGHT
TZOFFSETFROM:+0100
TZOFFSETTO:+0200
TZNAME:CEST
DTSTART:20250330T010000
END:DAYLIGHT
BEGIN:STANDARD
TZOFFSETFROM:+0200
TZOFFSETTO:+0100
TZNAME:CET
DTSTART:20251026T010000
END:STANDARD
BEGIN:DAYLIGHT
TZOFFSETFROM:+0100
TZOFFSETTO:+0200
TZNAME:CEST
DTSTART:20260329T010000
END:DAYLIGHT
BEGIN:STANDARD
TZOFFSETFROM:+0200
TZOFFSETTO:+0100
TZNAME:CET
DTSTART:20261025T010000
END:STANDARD
BEGIN:DAYLIGHT
TZOFFSETFROM:+0100
TZOFFSETTO:+0200
TZNAME:CEST
DTSTART:20270328T010000
END:DAYLIGHT
BEGIN:STANDARD
TZOFFSETFROM:+0200
TZOFFSETTO:+0100
TZNAME:CET
DTSTART:20271031T010000
END:STANDARD
END:VTIMEZONE
BEGIN:VEVENT
DTSTART;TZID=Europe/Paris:20261010T200000
DTEND;TZID=Europe/Paris:20261010T200000
DTSTAMP:20260425T144910
CREATED:20260217T152211Z
LAST-MODIFIED:20260321T155418Z
UID:25814-1791662400-1791662400@yatstrasbourg.com
SUMMARY:THE MUSIC MAN Performance #1
DESCRIPTION:
URL:https://yatstrasbourg.com/agenda/october-musical-performance-1/
LOCATION:Le Point d’Eau\, Ostwald
END:VEVENT
BEGIN:VEVENT
DTSTART;TZID=Europe/Paris:20261011T150000
DTEND;TZID=Europe/Paris:20261011T150000
DTSTAMP:20260425T144910
CREATED:20260217T152445Z
LAST-MODIFIED:20260321T155502Z
UID:25818-1791730800-1791730800@yatstrasbourg.com
SUMMARY:THE MUSIC MAN Performance #2
DESCRIPTION:
URL:https://yatstrasbourg.com/agenda/october-musical-performance-2/
LOCATION:Le Point d’Eau\, Ostwald
END:VEVENT
BEGIN:VEVENT
DTSTART;TZID=Europe/Paris:20261016T200000
DTEND;TZID=Europe/Paris:20261016T200000
DTSTAMP:20260425T144910
CREATED:20260217T152618Z
LAST-MODIFIED:20260321T155539Z
UID:25820-1792180800-1792180800@yatstrasbourg.com
SUMMARY:THE MUSIC MAN Performance #3
DESCRIPTION:
URL:https://yatstrasbourg.com/agenda/october-musical-performance-3/
LOCATION:Le Point d’Eau\, Ostwald
END:VEVENT
BEGIN:VEVENT
DTSTART;TZID=Europe/Paris:20261017T200000
DTEND;TZID=Europe/Paris:20261017T200000
DTSTAMP:20260425T144910
CREATED:20260217T152734Z
LAST-MODIFIED:20260321T155617Z
UID:25822-1792267200-1792267200@yatstrasbourg.com
SUMMARY:THE MUSIC MAN Performance #4
DESCRIPTION:
URL:https://yatstrasbourg.com/agenda/october-musical-performance-4/
LOCATION:Le Point d’Eau\, Ostwald
END:VEVENT
BEGIN:VEVENT
DTSTART;TZID=Europe/Paris:20261018T150000
DTEND;TZID=Europe/Paris:20261018T150000
DTSTAMP:20260425T144910
CREATED:20260217T152843Z
LAST-MODIFIED:20260321T155658Z
UID:25824-1792335600-1792335600@yatstrasbourg.com
SUMMARY:THE MUSIC MAN Performance #5
DESCRIPTION:
URL:https://yatstrasbourg.com/agenda/october-musical-performance-5/
LOCATION:Le Point d’Eau\, Ostwald
END:VEVENT
END:VCALENDAR