BEGIN:VCALENDAR
VERSION:2.0
PRODID:-//Young Actors Theater Strasbourg - ECPv6.15.20//NONSGML v1.0//EN
CALSCALE:GREGORIAN
METHOD:PUBLISH
X-WR-CALNAME:Young Actors Theater Strasbourg
X-ORIGINAL-URL:https://yatstrasbourg.com
X-WR-CALDESC:Events for Young Actors Theater Strasbourg
REFRESH-INTERVAL;VALUE=DURATION:PT1H
X-Robots-Tag:noindex
X-PUBLISHED-TTL:PT1H
BEGIN:VTIMEZONE
TZID:Europe/Paris
BEGIN:DAYLIGHT
TZOFFSETFROM:+0100
TZOFFSETTO:+0200
TZNAME:CEST
DTSTART:20250330T010000
END:DAYLIGHT
BEGIN:STANDARD
TZOFFSETFROM:+0200
TZOFFSETTO:+0100
TZNAME:CET
DTSTART:20251026T010000
END:STANDARD
BEGIN:DAYLIGHT
TZOFFSETFROM:+0100
TZOFFSETTO:+0200
TZNAME:CEST
DTSTART:20260329T010000
END:DAYLIGHT
BEGIN:STANDARD
TZOFFSETFROM:+0200
TZOFFSETTO:+0100
TZNAME:CET
DTSTART:20261025T010000
END:STANDARD
BEGIN:DAYLIGHT
TZOFFSETFROM:+0100
TZOFFSETTO:+0200
TZNAME:CEST
DTSTART:20270328T010000
END:DAYLIGHT
BEGIN:STANDARD
TZOFFSETFROM:+0200
TZOFFSETTO:+0100
TZNAME:CET
DTSTART:20271031T010000
END:STANDARD
END:VTIMEZONE
BEGIN:VEVENT
DTSTART;TZID=Europe/Paris:20260510T223000
DTEND;TZID=Europe/Paris:20260510T230000
DTSTAMP:20260425T050118
CREATED:20260412T101237Z
LAST-MODIFIED:20260412T101238Z
UID:26772-1778452200-1778454000@yatstrasbourg.com
SUMMARY:Poster Competition Deadline
DESCRIPTION:See our announcement for more information.
URL:https://yatstrasbourg.com/agenda/poster-competition-deadline/
END:VEVENT
BEGIN:VEVENT
DTSTART;TZID=Europe/Paris:20260510T170000
DTEND;TZID=Europe/Paris:20260510T193000
DTSTAMP:20260425T050118
CREATED:20260210T120206Z
LAST-MODIFIED:20260321T140214Z
UID:25782-1778432400-1778441400@yatstrasbourg.com
SUMMARY:WORKING\, a musical
DESCRIPTION:Musical Theater Workshop Production
URL:https://yatstrasbourg.com/agenda/working-the-musical/
LOCATION:European School of Strasbourg\, 2 rue Peter Schwarber\, Strasbourg\, 67000\, France
END:VEVENT
BEGIN:VEVENT
DTSTART;TZID=Europe/Paris:20260509T200000
DTEND;TZID=Europe/Paris:20260509T223000
DTSTAMP:20260425T050118
CREATED:20260321T135840Z
LAST-MODIFIED:20260321T135841Z
UID:26213-1778356800-1778365800@yatstrasbourg.com
SUMMARY:WORKING\, a musical
DESCRIPTION:Musical Theater Workshop Performance
URL:https://yatstrasbourg.com/agenda/working-a-musical/
LOCATION:European School of Strasbourg\, 2 rue Peter Schwarber\, Strasbourg\, 67000\, France
END:VEVENT
BEGIN:VEVENT
DTSTART;TZID=Europe/Paris:20260509T150000
DTEND;TZID=Europe/Paris:20260509T173000
DTSTAMP:20260425T050118
CREATED:20260210T115037Z
LAST-MODIFIED:20260321T140036Z
UID:25777-1778338800-1778347800@yatstrasbourg.com
SUMMARY:WORKING\, a musical
DESCRIPTION:Musical Theater Workshop Performance
URL:https://yatstrasbourg.com/agenda/working/
LOCATION:European School of Strasbourg\, 2 rue Peter Schwarber\, Strasbourg\, 67000\, France
END:VEVENT
BEGIN:VEVENT
DTSTART;TZID=Europe/Paris:20260508T000000
DTEND;TZID=Europe/Paris:20260508T235959
DTSTAMP:20260425T050118
CREATED:20260210T114627Z
LAST-MODIFIED:20260210T115222Z
UID:25774-1778198400-1778284799@yatstrasbourg.com
SUMMARY:Victoire de 1945
DESCRIPTION:Jour Férié
URL:https://yatstrasbourg.com/agenda/victoire-de-1945/
END:VEVENT
BEGIN:VEVENT
DTSTART;TZID=Europe/Paris:20260501T000000
DTEND;TZID=Europe/Paris:20260501T235959
DTSTAMP:20260425T050118
CREATED:20260210T114338Z
LAST-MODIFIED:20260210T115415Z
UID:25772-1777593600-1777679999@yatstrasbourg.com
SUMMARY:Fête du Travail
DESCRIPTION:Jour Férié
URL:https://yatstrasbourg.com/agenda/fete-du-travail/
END:VEVENT
BEGIN:VEVENT
DTSTART;TZID=Europe/Paris:20260329T100000
DTEND;TZID=Europe/Paris:20260329T123000
DTSTAMP:20260425T050118
CREATED:20260302T162537Z
LAST-MODIFIED:20260302T162633Z
UID:25995-1774778400-1774787400@yatstrasbourg.com
SUMMARY:OLIVER at the Cinema
DESCRIPTION:YATS production of OLIVER! was recorded at the Saturday 18 October 2025 performance.  \n\n\n\nTicket are FREE but you need to reserve a ticket on the YATS website to attend.
URL:https://yatstrasbourg.com/agenda/oliver-at-the-cinema/
LOCATION:Le Relief Cinema\, 34 route de Colmar\, 67600 Selestat
END:VEVENT
END:VCALENDAR