BEGIN:VCALENDAR
VERSION:2.0
PRODID:-//Young Actors Theater Strasbourg - ECPv6.15.20//NONSGML v1.0//EN
CALSCALE:GREGORIAN
METHOD:PUBLISH
X-WR-CALNAME:Young Actors Theater Strasbourg
X-ORIGINAL-URL:https://yatstrasbourg.com
X-WR-CALDESC:Events for Young Actors Theater Strasbourg
REFRESH-INTERVAL;VALUE=DURATION:PT1H
X-Robots-Tag:noindex
X-PUBLISHED-TTL:PT1H
BEGIN:VTIMEZONE
TZID:Europe/Paris
BEGIN:DAYLIGHT
TZOFFSETFROM:+0100
TZOFFSETTO:+0200
TZNAME:CEST
DTSTART:20250330T010000
END:DAYLIGHT
BEGIN:STANDARD
TZOFFSETFROM:+0200
TZOFFSETTO:+0100
TZNAME:CET
DTSTART:20251026T010000
END:STANDARD
BEGIN:DAYLIGHT
TZOFFSETFROM:+0100
TZOFFSETTO:+0200
TZNAME:CEST
DTSTART:20260329T010000
END:DAYLIGHT
BEGIN:STANDARD
TZOFFSETFROM:+0200
TZOFFSETTO:+0100
TZNAME:CET
DTSTART:20261025T010000
END:STANDARD
BEGIN:DAYLIGHT
TZOFFSETFROM:+0100
TZOFFSETTO:+0200
TZNAME:CEST
DTSTART:20270328T010000
END:DAYLIGHT
BEGIN:STANDARD
TZOFFSETFROM:+0200
TZOFFSETTO:+0100
TZNAME:CET
DTSTART:20271031T010000
END:STANDARD
END:VTIMEZONE
BEGIN:VEVENT
DTSTART;TZID=Europe/Paris:20260606T000000
DTEND;TZID=Europe/Paris:20260607T235959
DTSTAMP:20260425T012132
CREATED:20260210T123251Z
LAST-MODIFIED:20260321T155834Z
UID:25801-1780704000-1780876799@yatstrasbourg.com
SUMMARY:First Rehearsals for THE MUSIC MAN
DESCRIPTION:
URL:https://yatstrasbourg.com/agenda/first-rehearsals-for-the-october-show/
LOCATION:European School of Strasbourg\, 2 rue Peter Schwarber\, Strasbourg\, 67000\, France
END:VEVENT
END:VCALENDAR