BEGIN:VCALENDAR
VERSION:2.0
PRODID:-//Young Actors Theater Strasbourg - ECPv6.15.20//NONSGML v1.0//EN
CALSCALE:GREGORIAN
METHOD:PUBLISH
X-ORIGINAL-URL:https://yatstrasbourg.com
X-WR-CALDESC:Events for Young Actors Theater Strasbourg
REFRESH-INTERVAL;VALUE=DURATION:PT1H
X-Robots-Tag:noindex
X-PUBLISHED-TTL:PT1H
BEGIN:VTIMEZONE
TZID:Europe/Paris
BEGIN:DAYLIGHT
TZOFFSETFROM:+0100
TZOFFSETTO:+0200
TZNAME:CEST
DTSTART:20250330T010000
END:DAYLIGHT
BEGIN:STANDARD
TZOFFSETFROM:+0200
TZOFFSETTO:+0100
TZNAME:CET
DTSTART:20251026T010000
END:STANDARD
BEGIN:DAYLIGHT
TZOFFSETFROM:+0100
TZOFFSETTO:+0200
TZNAME:CEST
DTSTART:20260329T010000
END:DAYLIGHT
BEGIN:STANDARD
TZOFFSETFROM:+0200
TZOFFSETTO:+0100
TZNAME:CET
DTSTART:20261025T010000
END:STANDARD
BEGIN:DAYLIGHT
TZOFFSETFROM:+0100
TZOFFSETTO:+0200
TZNAME:CEST
DTSTART:20270328T010000
END:DAYLIGHT
BEGIN:STANDARD
TZOFFSETFROM:+0200
TZOFFSETTO:+0100
TZNAME:CET
DTSTART:20271031T010000
END:STANDARD
END:VTIMEZONE
BEGIN:VEVENT
DTSTART;TZID=Europe/Paris:20260524T000000
DTEND;TZID=Europe/Paris:20260524T235959
DTSTAMP:20260425T011351
CREATED:20260210T120644Z
LAST-MODIFIED:20260210T120646Z
UID:25786-1779580800-1779667199@yatstrasbourg.com
SUMMARY:Pentecôte
DESCRIPTION:Jour Férié
URL:https://yatstrasbourg.com/agenda/pentecote/
END:VEVENT
BEGIN:VEVENT
DTSTART;TZID=Europe/Paris:20260524T000000
DTEND;TZID=Europe/Paris:20260524T235959
DTSTAMP:20260425T011351
CREATED:20260210T122643Z
LAST-MODIFIED:20260321T153049Z
UID:25796-1779580800-1779667199@yatstrasbourg.com
SUMMARY:Auditions for the musical THE MUSIC MAN
DESCRIPTION:Audition Sign-ups begin on Monday 20 April 2026
URL:https://yatstrasbourg.com/agenda/auditions-for-the-october-musical-2/
LOCATION:European School of Strasbourg\, 2 rue Peter Schwarber\, Strasbourg\, 67000\, France
END:VEVENT
END:VCALENDAR